BEGIN:VCALENDAR
VERSION:2.0
PRODID:-//British Columbia Conference - ECPv6.0.9//NONSGML v1.0//EN
CALSCALE:GREGORIAN
METHOD:PUBLISH
X-ORIGINAL-URL:https://www.bcadventist.ca
X-WR-CALDESC:Events for British Columbia Conference
REFRESH-INTERVAL;VALUE=DURATION:PT1H
X-Robots-Tag:noindex
X-PUBLISHED-TTL:PT1H
BEGIN:VTIMEZONE
TZID:America/Vancouver
BEGIN:DAYLIGHT
TZOFFSETFROM:-0800
TZOFFSETTO:-0700
TZNAME:PDT
DTSTART:20220313T100000
END:DAYLIGHT
BEGIN:STANDARD
TZOFFSETFROM:-0700
TZOFFSETTO:-0800
TZNAME:PST
DTSTART:20221106T090000
END:STANDARD
END:VTIMEZONE
BEGIN:VEVENT
DTSTART;VALUE=DATE:20220813
DTEND;VALUE=DATE:20220906
DTSTAMP:20260422T031325
CREATED:20220223T092832Z
LAST-MODIFIED:20220224T030605Z
UID:15335-1660410000-1662397199@www.bcadventist.ca
SUMMARY:Family / Group Camping
DESCRIPTION:Summer Camp Flyer - For Website - February 2022
URL:https://www.bcadventist.ca/event/family-group-camping-3/
LOCATION:BC
END:VEVENT
BEGIN:VEVENT
DTSTART;VALUE=DATE:20220922
DTEND;VALUE=DATE:20220926
DTSTAMP:20260422T031325
CREATED:20220223T092942Z
LAST-MODIFIED:20220223T092942Z
UID:15338-1663866000-1664125199@www.bcadventist.ca
SUMMARY:Women's Ministries
DESCRIPTION:
URL:https://www.bcadventist.ca/event/womens-ministries/
LOCATION:BC
END:VEVENT
BEGIN:VEVENT
DTSTART;VALUE=DATE:20220929
DTEND;VALUE=DATE:20221003
DTSTAMP:20260422T031325
CREATED:20220803T231431Z
LAST-MODIFIED:20220901T224944Z
UID:16407-1664470800-1664729999@www.bcadventist.ca
SUMMARY:Women's Ministries Fall Retreat 2022 - Registration
DESCRIPTION:WM Retreat Registration (Fall 2022):\n(Due to limited vacant rooms at the Lodge\, we are making available cabins and bunk houses\, too\, for the retreat accommodation. We strongly encourage you to register together the roommates that you want to stay with during this weekend. Yes\, the prices below are for the entire weekend except the Sabbath only option. We are equipped to take only Visa or Mastercard for payment.) \n  \n$10/- off for early bird registration till Wednesday\, August 31\, 2022. \nDeadline for regular registration is Sunday\, September 18\, 2022. \n  \nIf you have a musical item or testimony to share (3 – 4 minutes max)\, please contact Mary at the Conference Office (604-853-5451 ext. 105). \n*We apologize for not being equipped to accommodate children under 13 years of age.
URL:https://www.bcadventist.ca/event/womens-ministries-fall-retreat/
LOCATION:Camp Hope\, 61855 Lougheed Hwy\, Hope\, BC\, V0X 1L0\, Canada
ORGANIZER;CN="Mary%20Pillai":MAILTO:mpillai@bcadventist.ca
END:VEVENT
END:VCALENDAR