BEGIN:VCALENDAR
VERSION:2.0
PRODID:-//British Columbia Conference - ECPv6.0.9//NONSGML v1.0//EN
CALSCALE:GREGORIAN
METHOD:PUBLISH
X-ORIGINAL-URL:https://www.bcadventist.ca
X-WR-CALDESC:Events for British Columbia Conference
REFRESH-INTERVAL;VALUE=DURATION:PT1H
X-Robots-Tag:noindex
X-PUBLISHED-TTL:PT1H
BEGIN:VTIMEZONE
TZID:America/Vancouver
BEGIN:DAYLIGHT
TZOFFSETFROM:-0800
TZOFFSETTO:-0700
TZNAME:PDT
DTSTART:20220313T100000
END:DAYLIGHT
BEGIN:STANDARD
TZOFFSETFROM:-0700
TZOFFSETTO:-0800
TZNAME:PST
DTSTART:20221106T090000
END:STANDARD
END:VTIMEZONE
BEGIN:VEVENT
DTSTART;VALUE=DATE:20220723
DTEND;VALUE=DATE:20220801
DTSTAMP:20260422T074020
CREATED:20220223T085748Z
LAST-MODIFIED:20220223T085748Z
UID:15305-1658595600-1659286799@www.bcadventist.ca
SUMMARY:Family /  Group Camping
DESCRIPTION:
URL:https://www.bcadventist.ca/event/family-group-camping-2/
LOCATION:BC
END:VEVENT
BEGIN:VEVENT
DTSTART;VALUE=DATE:20220726
DTEND;VALUE=DATE:20220731
DTSTAMP:20260422T074020
CREATED:20220223T092139Z
LAST-MODIFIED:20220223T092139Z
UID:15320-1658854800-1659200399@www.bcadventist.ca
SUMMARY:Virtual Camp Meeting - "Almost Home"
DESCRIPTION:
URL:https://www.bcadventist.ca/event/virtual-camp-meeting-almost-home/
LOCATION:BC
END:VEVENT
BEGIN:VEVENT
DTSTART;VALUE=DATE:20220730
DTEND;VALUE=DATE:20220801
DTSTAMP:20260422T074020
CREATED:20220223T092335Z
LAST-MODIFIED:20220223T092335Z
UID:15323-1659200400-1659286799@www.bcadventist.ca
SUMMARY:BC Constituency Session
DESCRIPTION:
URL:https://www.bcadventist.ca/event/bc-constituency-session/
LOCATION:BC
END:VEVENT
BEGIN:VEVENT
DTSTART;VALUE=DATE:20220730
DTEND;VALUE=DATE:20220808
DTSTAMP:20260422T074020
CREATED:20220223T092443Z
LAST-MODIFIED:20220224T030547Z
UID:15326-1659200400-1659891599@www.bcadventist.ca
SUMMARY:Teen Camp
DESCRIPTION:Summer Camp Flyer - For Website - February 2022
URL:https://www.bcadventist.ca/event/teen-camp-2/
LOCATION:BC
END:VEVENT
END:VCALENDAR