BEGIN:VCALENDAR
VERSION:2.0
PRODID:-//British Columbia Conference - ECPv6.0.9//NONSGML v1.0//EN
CALSCALE:GREGORIAN
METHOD:PUBLISH
X-WR-CALNAME:British Columbia Conference
X-ORIGINAL-URL:https://www.bcadventist.ca
X-WR-CALDESC:Events for British Columbia Conference
REFRESH-INTERVAL;VALUE=DURATION:PT1H
X-Robots-Tag:noindex
X-PUBLISHED-TTL:PT1H
BEGIN:VTIMEZONE
TZID:America/Vancouver
BEGIN:DAYLIGHT
TZOFFSETFROM:-0800
TZOFFSETTO:-0700
TZNAME:PDT
DTSTART:20210314T100000
END:DAYLIGHT
BEGIN:STANDARD
TZOFFSETFROM:-0700
TZOFFSETTO:-0800
TZNAME:PST
DTSTART:20211107T090000
END:STANDARD
END:VTIMEZONE
BEGIN:VEVENT
DTSTART;VALUE=DATE:20210703
DTEND;VALUE=DATE:20210906
DTSTAMP:20260424T175233
CREATED:20210114T083853Z
LAST-MODIFIED:20210126T024250Z
UID:11088-1625331600-1630861199@www.bcadventist.ca
SUMMARY:MVSC - Family Camping - Tentative
DESCRIPTION:Family Camping by Week\n  \nWeek 01: July 4 – 11 Week 02: July 11 – 18\nWeek 03: July 18 – 25 Week 04: July 25  – August 1\nWeek 05: August 1 – 8 Week 06: August 8  – 15\nWeek 07: August 15 – 22 Week 08:  August 22 – 29\nWeek 09: August 29 – September 5 Week 08:  August 22 – 19
URL:https://www.bcadventist.ca/event/family-camping-week-01/
LOCATION:Mountain View Summer Camp\, 7th Day Adventist Youth Camp Rd\, Fraser Valley B\, BC V0X 1L3\, Hope\, British Columbia\, V0X 1L0\, Canada
END:VEVENT
BEGIN:VEVENT
DTSTART;VALUE=DATE:20210725
DTEND;VALUE=DATE:20210729
DTSTAMP:20260424T175233
CREATED:20210413T072042Z
LAST-MODIFIED:20210413T072308Z
UID:12843-1627232400-1627491599@www.bcadventist.ca
SUMMARY:Public Campus Ministries Convention Online
DESCRIPTION:
URL:https://www.bcadventist.ca/event/public-campus-ministries-convention-online/
LOCATION:BC
END:VEVENT
END:VCALENDAR